BEGIN:VCALENDAR
VERSION:2.0
PRODID:I Mercadinho de Natal
X-WR-CALNAME:I Mercadinho de Natal
X-WR-TIMEZONE:Europe/Lisbon
X-PUBLISHED-TTL:P1W
BEGIN:VTIMEZONE
TZID:Europe/Lisbon
X-LIC-LOCATION:Europe/Lisbon
END:VTIMEZONE
BEGIN:VEVENT
UID:69e75f5240624
DTSTART;VALUE=DATE:20251206
SEQUENCE:0
TRANSP:OPAQUE
DTEND;VALUE=DATE:20251207
SUMMARY:I Mercadinho de Natal
CLASS:PUBLIC
DESCRIPTION:Mercadinho de Natal em Cabecais-Fermedo!&nbsp\;A Junta de Fregu
 esia de Fermedo convida toda a população a participar no Mercadinho de N
 atal\, que irá decorrer nos dias 6 e 7 de dezembro\, no Largo de Cabecais
 .Venha viver o espírito natalício\, desfrutar de um fim de semana cheio 
 de magia!Contamos com a sua presença!&nbsp\;
X-MICROSOFT-CDO-ALLDAYEVENT:TRUE
DTSTAMP:20260421T112818Z
END:VEVENT
END:VCALENDAR